BEGIN:VCALENDAR
PROID:-//Lakeview Hospital//Events Calendar//EN
BEGIN:VEVENT
CLASS:PUBLIC
UID:d908f802-3c99-46fa-9976-7a7a47e7ce5b
DESCRIPTION:This parade, sponsored by Women UNITED of Washington County East, offers ki
 ds a great way to get some exercise and participate in an event which celebr
 ates the beauty of our river valley.\nKids of all ages are invited to parade
  with us! Dress up as a LumberJack, LumberJane, or your favorite book, movie
 , or cartoon character. Parents are welcome to walk with their kids. Strolle
 rs are welcome; however, bicycles are not allowed. After the parade there wi
 ll be fun activities for the whole family to enjoy!\n\nPre-Register online h
 ere: http://uwwce.org/women-united\n$5/child or $10/family (donations will g
 o to United Way of Washington County East)\n9:30 am Registration\n10 am Para
 de Kick-off\n10 am- 11 am Activities in the LumberKids tent\n\nCheck out the
  Facebook Event page here!\nMap And Directions: \nhttps://maps.google.com/ma
 ps?f=q&hl=en&geocode=&q=3112+Lowell+Ct,Stillwater,MN,55082\n\nContact Phone:
  () -\n\nGet Latest Event Information: \nhttps://www.powerup4kids.org/Events
 /EventDetails.aspx?sid=0&EventID=809
SUMMARY:Little Lumberjack Parade 
DTSTART:20170722T143000Z
DTEND:20170722T160000Z
DTSTAMP:20260424T073112Z
LOCATION:3112 Lowell Ct  Stillwater, MN 55082
CREATED:20170630T143559Z
END:VEVENT
END:VCALENDAR
