BEGIN:VCALENDAR
PROID:-//Lakeview Hospital//Events Calendar//EN
BEGIN:VEVENT
CLASS:PUBLIC
UID:5077b17a-e6e4-4758-a7e9-14e5d2c020a6
DESCRIPTION:\nTO REGISTER:\nGo to http://www.powerup4kids.org/Home\nClick on "Classes" 
 \nFind Hudson Bike Safety Rodeo\nClick "Add to Cart"\nClick "Checkout" (Remi
 nder: this event is FREE)\nEnter your information\n\n\n\n\n\n​\nMap And Dire
 ctions: \nhttps://maps.google.com/maps?f=q&hl=en&geocode=&q=307+2nd+St,Hudso
 n,WI,54016\n\nContact Phone: () -\n\nGet Latest Event Information: \nhttps:/
 /www.powerup4kids.org/Events/EventDetails.aspx?sid=0&EventID=804
SUMMARY:Hudson Bike Rodeo (Ages 5-12)
DTSTART:20170805T140000Z
DTEND:20170805T170000Z
DTSTAMP:20260424T073130Z
LOCATION:307 2nd St  Hudson, WI 54016
CREATED:20170605T171536Z
END:VEVENT
END:VCALENDAR
