BEGIN:VCALENDAR
PROID:-//Lakeview Hospital//Events Calendar//EN
BEGIN:VEVENT
CLASS:PUBLIC
UID:3d608d59-3c09-431e-a88f-955df25bd293
DESCRIPTION:Map And Directions: \nhttps://maps.google.com/maps?f=q&hl=en&geocode=&q=521
 +N+Main+St,Stillwater,MN,55082\n\nContact Phone: () -\n\nGet Latest Event In
 formation: \nhttps://www.powerup4kids.org/Events/EventDetails.aspx?sid=0&Eve
 ntID=801
SUMMARY:Lumberjack Days Parade-Stillwater
DTSTART:20170723T180000Z
DTEND:20170723T200000Z
DTSTAMP:20260424T073228Z
LOCATION:521 N Main St  Stillwater, MN 55082
CREATED:20170601T122122Z
END:VEVENT
END:VCALENDAR
