BEGIN:VCALENDAR
PROID:-//Lakeview Hospital//Events Calendar//EN
BEGIN:VEVENT
CLASS:PUBLIC
UID:631ec0d0-2100-4b85-b9e8-7f5d6f239cfe
DESCRIPTION:Join Chomp for some fun and games at the PowerUp booth this week's Summer T
 uesday!\nMap And Directions: \nhttps://maps.google.com/maps?f=q&hl=en&geocod
 e=&q=521+N+Main+St,Stillwater,MN,55082\n\nContact Phone: () -\n\nGet Latest 
 Event Information: \nhttps://www.powerup4kids.org/Events/EventDetails.aspx?s
 id=0&EventID=800
SUMMARY:Summer Tuesday
DTSTART:20170808T220000Z
DTEND:20170809T020000Z
DTSTAMP:20260424T073139Z
LOCATION:521 N Main St  Stillwater, MN 55082
CREATED:20170531T174842Z
END:VEVENT
END:VCALENDAR
