BEGIN:VCALENDAR
PROID:-//Lakeview Hospital//Events Calendar//EN
BEGIN:VEVENT
CLASS:PUBLIC
UID:c53824f6-2893-4523-8a5b-518b7c2e4334
DESCRIPTION:Join Chomp for some fun games and activities at the PowerUp booth for Summe
 r Tuesday! Can't wait to see you there!\nMap And Directions: \nhttps://maps.
 google.com/maps?f=q&hl=en&geocode=&q=521+N+Main+St,Stillwater,MN,55082\n\nCo
 ntact Phone: () -\n\nGet Latest Event Information: \nhttps://www.powerup4kid
 s.org/Events/EventDetails.aspx?sid=0&EventID=799
SUMMARY:Summer Tuesdays
DTSTART:20170725T220000Z
DTEND:20170726T020000Z
DTSTAMP:20260424T073130Z
LOCATION:521 N Main St  Stillwater, MN 55082
CREATED:20170531T174435Z
END:VEVENT
END:VCALENDAR
