BEGIN:VCALENDAR
PROID:-//Lakeview Hospital//Events Calendar//EN
BEGIN:VEVENT
CLASS:PUBLIC
UID:313d7292-0a8d-47ca-8fe2-a7e7a16afeff
DESCRIPTION:\nMap And Directions: \nhttps://maps.google.com/maps?f=q&hl=en&geocode=&q=V
 alley+Ridge+Mall%2c+1560+W+Frontage+Rd,Stillwater,MN,55082\n\nContact Phone:
  () -\n\nGet Latest Event Information: \nhttps://www.powerup4kids.org/Events
 /EventDetails.aspx?sid=0&EventID=794
SUMMARY:July Curio Dance Party
DTSTART:20170718T233000Z
DTEND:20170719T010000Z
DTSTAMP:20260424T073228Z
LOCATION:Valley Ridge Mall, 1560 W Frontage Rd  Stillwater, MN 55082
CREATED:20170531T171213Z
END:VEVENT
END:VCALENDAR
